BEGIN:VCALENDAR
VERSION:2.0
PRODID:-//ChamberMaster//Event Calendar 2.0//EN
METHOD:PUBLISH
X-PUBLISHED-TTL:P3D
REFRESH-INTERVAL:P3D
CALSCALE:GREGORIAN
BEGIN:VEVENT
DTSTART:20260724T140000Z
DTEND:20260724T150000Z
X-MICROSOFT-CDO-ALLDAYEVENT:FALSE
SUMMARY:Ribbon Cutting/Chamber Chat - Sunflower Insurance Solutions
DESCRIPTION:Please join The Chamber in Hays\, Kansas for a Ribbon Cutting to celebrate Sunflower Insurance Solutions and to show off their office space in the Hadley Center.
X-ALT-DESC;FMTTYPE=text/html:Please join The Chamber in Hays\, Kansas for a Ribbon Cutting to celebrate Sunflower Insurance Solutions and to show off their office space in the Hadley Center.
LOCATION:Sunflower Insurance Solutions Hadley Center - 205 E 7th St\, Suite 101
UID:e.1271.12944
SEQUENCE:3
DTSTAMP:20260424T061229Z
URL:https://members.hayschamber.com/events/details/ribbon-cutting-chamber-chat-sunflower-insurance-solutions-12944
END:VEVENT

END:VCALENDAR
