BEGIN:VCALENDAR
VERSION:2.0
PRODID:-//ChamberMaster//Event Calendar 2.0//EN
METHOD:PUBLISH
X-PUBLISHED-TTL:P3D
REFRESH-INTERVAL:P3D
CALSCALE:GREGORIAN
BEGIN:VEVENT
DTSTART:20171020T203000Z
DTEND:20171020T210000Z
X-MICROSOFT-CDO-ALLDAYEVENT:FALSE
SUMMARY:Ribbon Cutting-Clinkscales Elder Law Practice
DESCRIPTION:Clinkscales Elder Law Office open house ribbon cutting and brick presentation.\n\nHACC ribbon cutting - 3:30pm.\n\nDHDC brick presentation right before we cut the ribbon at 3:30pm.
X-ALT-DESC;FMTTYPE=text/html:Clinkscales Elder Law Office open house ribbon cutting and brick presentation.<br />\nHACC ribbon cutting - 3:30pm.<br />\nDHDC brick presentation right before we cut the ribbon at 3:30pm.
LOCATION:Inside of ABBB.
UID:e.1271.7632
SEQUENCE:3
DTSTAMP:20260425T010149Z
URL:https://members.hayschamber.com/events/details/ribbon-cutting-clinkscales-elder-law-practice-7632
END:VEVENT

END:VCALENDAR
