BEGIN:VCALENDAR
VERSION:2.0
PRODID:-//ChamberMaster//Event Calendar 2.0//EN
METHOD:PUBLISH
X-PUBLISHED-TTL:P3D
REFRESH-INTERVAL:P3D
CALSCALE:GREGORIAN
BEGIN:VEVENT
DTSTART:20190401T200000Z
DTEND:20190401T210000Z
X-MICROSOFT-CDO-ALLDAYEVENT:FALSE
SUMMARY:Ribbon Cutting - Das Essen Hutte
DESCRIPTION:
X-ALT-DESC;FMTTYPE=text/html:
LOCATION:110 W. 11th St.
UID:e.1271.10206
SEQUENCE:3
DTSTAMP:20260422T220918Z
URL:https://members.hayschamber.com/events/details/ribbon-cutting-das-essen-hutte-10206
END:VEVENT

END:VCALENDAR
