BEGIN:VCALENDAR
VERSION:2.0
PRODID:-//ChamberMaster//Event Calendar 2.0//EN
METHOD:PUBLISH
X-PUBLISHED-TTL:P3D
REFRESH-INTERVAL:P3D
CALSCALE:GREGORIAN
BEGIN:VEVENT
DTSTART:20181108T220000Z
DTEND:20181108T230000Z
X-MICROSOFT-CDO-ALLDAYEVENT:FALSE
SUMMARY:Ribbon Cutting - DHDC/Heartland Community Foundation/Big Brothers\, Big Sisters
DESCRIPTION:
X-ALT-DESC;FMTTYPE=text/html:
LOCATION:1200 Main Street Chestnut Street Building
UID:e.1271.9884
SEQUENCE:3
DTSTAMP:20260423T125905Z
URL:https://members.hayschamber.com/events/details/ribbon-cutting-dhdc-heartland-community-foundation-big-brothers-big-sisters-9884
END:VEVENT

END:VCALENDAR
