BEGIN:VCALENDAR
VERSION:2.0
PRODID:-//ChamberMaster//Event Calendar 2.0//EN
METHOD:PUBLISH
X-PUBLISHED-TTL:P3D
REFRESH-INTERVAL:P3D
CALSCALE:GREGORIAN
BEGIN:VEVENT
DTSTART:20190802T220000Z
DTEND:20190802T230000Z
X-MICROSOFT-CDO-ALLDAYEVENT:FALSE
SUMMARY:Ribbon Cutting - Drexler's Alignment and Automotive Repair
DESCRIPTION:Please join us to celebrate a Ribbon Cutting for Drexler's Alignment and Automotive Repair (former business known as Greg's Alignment)!
X-ALT-DESC;FMTTYPE=text/html:Please join us to celebrate a Ribbon Cutting for Drexler&#39\;s Alignment and Automotive Repair (former business known as Greg&#39\;s Alignment)!
LOCATION:2711 Broadway Avenue Hays\, KS 67601
UID:e.1271.10283
SEQUENCE:3
DTSTAMP:20260422T032151Z
URL:https://members.hayschamber.com/events/details/ribbon-cutting-drexler-s-alignment-and-automotive-repair-10283
END:VEVENT

END:VCALENDAR
