BEGIN:VCALENDAR
VERSION:2.0
PRODID:-//ChamberMaster//Event Calendar 2.0//EN
METHOD:PUBLISH
X-PUBLISHED-TTL:P3D
REFRESH-INTERVAL:P3D
CALSCALE:GREGORIAN
BEGIN:VEVENT
DTSTART:20261015T210000Z
DTEND:20261015T220000Z
X-MICROSOFT-CDO-ALLDAYEVENT:FALSE
SUMMARY:Ribbon Cutting: DSNWK - Custom Creations 5th Anniversary
DESCRIPTION:Please join The Chamber in Hays\, Kansas for a Ribbon Cutting to celebrate the 5th anniversary of DSWNK - Custom Creations!
X-ALT-DESC;FMTTYPE=text/html:Please join The Chamber in Hays\, Kansas for a Ribbon Cutting to celebrate the 5th anniversary of DSWNK - Custom Creations!
LOCATION:DSNWK - Custom Creations 1107 Main St.\, Hays
UID:e.1271.12917
SEQUENCE:3
DTSTAMP:20260424T053720Z
URL:https://members.hayschamber.com/events/details/ribbon-cutting-dsnwk-custom-creations-5th-anniversary-12917
END:VEVENT

END:VCALENDAR
