BEGIN:VCALENDAR
VERSION:2.0
PRODID:-//ChamberMaster//Event Calendar 2.0//EN
METHOD:PUBLISH
X-PUBLISHED-TTL:P3D
REFRESH-INTERVAL:P3D
CALSCALE:GREGORIAN
BEGIN:VEVENT
DTSTART:20180510T210000Z
DTEND:20180510T220000Z
X-MICROSOFT-CDO-ALLDAYEVENT:FALSE
SUMMARY:Ribbon Cutting - Ellis County Health Department
DESCRIPTION:
X-ALT-DESC;FMTTYPE=text/html:
LOCATION:2507 Canterbury
UID:e.1271.8792
SEQUENCE:3
DTSTAMP:20260424T001355Z
URL:https://members.hayschamber.com/events/details/ribbon-cutting-ellis-county-health-department-8792
END:VEVENT

END:VCALENDAR
