BEGIN:VCALENDAR
VERSION:2.0
PRODID:-//ChamberMaster//Event Calendar 2.0//EN
METHOD:PUBLISH
X-PUBLISHED-TTL:P3D
REFRESH-INTERVAL:P3D
CALSCALE:GREGORIAN
BEGIN:VEVENT
DTSTART:20181203T220000Z
DTEND:20181203T230000Z
X-MICROSOFT-CDO-ALLDAYEVENT:FALSE
SUMMARY:Ribbon Cutting - Express Employment Professionals
DESCRIPTION:Taco-'bout the Express Employment Professionals business! Join us to learn more and indulge in some classic taco's a day before "Taco Tuesday" while learning what Express Employment Professionals have to offer.
X-ALT-DESC;FMTTYPE=text/html:Taco-&#39\;bout the Express Employment Professionals business! Join us to learn more and indulge in some classic taco&#39\;s a day before &quot\;Taco Tuesday&quot\; while learning what Express Employment Professionals have to offer.
LOCATION:Briefspace (219 W. 10th St.)
UID:e.1271.9909
SEQUENCE:3
DTSTAMP:20260423T055805Z
URL:https://members.hayschamber.com/events/details/ribbon-cutting-express-employment-professionals-9909
END:VEVENT

END:VCALENDAR
