BEGIN:VCALENDAR
VERSION:2.0
PRODID:-//ChamberMaster//Event Calendar 2.0//EN
METHOD:PUBLISH
X-PUBLISHED-TTL:P3D
REFRESH-INTERVAL:P3D
CALSCALE:GREGORIAN
BEGIN:VEVENT
DTSTART:20190222T150000Z
DTEND:20190222T160000Z
X-MICROSOFT-CDO-ALLDAYEVENT:FALSE
SUMMARY:Ribbon Cutting - eyeSMILE Vision and Dental
DESCRIPTION:
X-ALT-DESC;FMTTYPE=text/html:
LOCATION:1300 Main St
UID:e.1271.9928
SEQUENCE:3
DTSTAMP:20260422T204949Z
URL:https://members.hayschamber.com/events/details/ribbon-cutting-eyesmile-vision-and-dental-9928
END:VEVENT

END:VCALENDAR
