BEGIN:VCALENDAR
VERSION:2.0
PRODID:-//ChamberMaster//Event Calendar 2.0//EN
METHOD:PUBLISH
X-PUBLISHED-TTL:P3D
REFRESH-INTERVAL:P3D
CALSCALE:GREGORIAN
BEGIN:VEVENT
DTSTART:20191004T203000Z
DTEND:20191004T220000Z
X-MICROSOFT-CDO-ALLDAYEVENT:FALSE
SUMMARY:Ribbon Cutting - Fancy That Boutique
DESCRIPTION:Ribbon Cutting
X-ALT-DESC;FMTTYPE=text/html:Ribbon Cutting<br />\n&nbsp\;
LOCATION:115 E. 8th.
UID:e.1271.10311
SEQUENCE:3
DTSTAMP:20260422T020403Z
URL:https://members.hayschamber.com/events/details/ribbon-cutting-fancy-that-boutique-10311
END:VEVENT

END:VCALENDAR
