BEGIN:VCALENDAR
VERSION:2.0
PRODID:-//ChamberMaster//Event Calendar 2.0//EN
METHOD:PUBLISH
X-PUBLISHED-TTL:P3D
REFRESH-INTERVAL:P3D
CALSCALE:GREGORIAN
BEGIN:VEVENT
DTSTART:20190926T213000Z
DTEND:20190926T223000Z
X-MICROSOFT-CDO-ALLDAYEVENT:FALSE
SUMMARY:Ribbon Cutting - Farmers Insurance-Chelsy Proehl Agency
DESCRIPTION:Ribbon Cutting
X-ALT-DESC;FMTTYPE=text/html:Ribbon Cutting
LOCATION:2819 Plaza Ave.
UID:e.1271.10270
SEQUENCE:3
DTSTAMP:20260422T020953Z
URL:https://members.hayschamber.com/events/details/ribbon-cutting-farmers-insurance-chelsy-proehl-agency-10270
END:VEVENT

END:VCALENDAR
