BEGIN:VCALENDAR
VERSION:2.0
PRODID:-//ChamberMaster//Event Calendar 2.0//EN
METHOD:PUBLISH
X-PUBLISHED-TTL:P3D
REFRESH-INTERVAL:P3D
CALSCALE:GREGORIAN
BEGIN:VEVENT
DTSTART:20191120T220000Z
DTEND:20191120T230000Z
X-MICROSOFT-CDO-ALLDAYEVENT:FALSE
SUMMARY:Ribbon Cutting - "Festival of the Trees" by The Arc of Central Plains
DESCRIPTION:Ribbon Cutting - "Festival of the Trees"
X-ALT-DESC;FMTTYPE=text/html:Ribbon Cutting - &quot\;Festival of the Trees&quot\;
LOCATION:600 Main St.
UID:e.1271.10328
SEQUENCE:3
DTSTAMP:20260421T232228Z
URL:https://members.hayschamber.com/events/details/ribbon-cutting-festival-of-the-trees-by-the-arc-of-central-plains-10328
END:VEVENT

END:VCALENDAR
