BEGIN:VCALENDAR
VERSION:2.0
PRODID:-//ChamberMaster//Event Calendar 2.0//EN
METHOD:PUBLISH
X-PUBLISHED-TTL:P3D
REFRESH-INTERVAL:P3D
CALSCALE:GREGORIAN
BEGIN:VEVENT
DTSTART:20191011T140000Z
DTEND:20191011T150000Z
X-MICROSOFT-CDO-ALLDAYEVENT:FALSE
SUMMARY:Ribbon Cutting - FHSU Art & Design Building
DESCRIPTION:Ribbon Cutting
X-ALT-DESC;FMTTYPE=text/html:Ribbon Cutting&nbsp\;&nbsp\;&nbsp\;&nbsp\;&nbsp\;
LOCATION:600 Park St.
UID:e.1271.10317
SEQUENCE:3
DTSTAMP:20260422T020902Z
URL:https://members.hayschamber.com/events/details/ribbon-cutting-fhsu-art-design-building-10317
END:VEVENT

END:VCALENDAR
