BEGIN:VCALENDAR
VERSION:2.0
PRODID:-//ChamberMaster//Event Calendar 2.0//EN
METHOD:PUBLISH
X-PUBLISHED-TTL:P3D
REFRESH-INTERVAL:P3D
CALSCALE:GREGORIAN
BEGIN:VEVENT
DTSTART:20191212T220000Z
DTEND:20191212T230000Z
X-MICROSOFT-CDO-ALLDAYEVENT:FALSE
SUMMARY:Ribbon Cutting - FHSU Management Development Center
DESCRIPTION:Ribbon Cutting - MDC 5 year anniversary
X-ALT-DESC;FMTTYPE=text/html:Ribbon Cutting - MDC 5 year anniversary&nbsp\;&nbsp\;&nbsp\;&nbsp\;
LOCATION:FHSU Memorial Union Ballroom
UID:e.1271.10339
SEQUENCE:3
DTSTAMP:20260421T220707Z
URL:https://members.hayschamber.com/events/details/ribbon-cutting-fhsu-management-development-center-10339
END:VEVENT

END:VCALENDAR
