BEGIN:VCALENDAR
VERSION:2.0
PRODID:-//ChamberMaster//Event Calendar 2.0//EN
METHOD:PUBLISH
X-PUBLISHED-TTL:P3D
REFRESH-INTERVAL:P3D
CALSCALE:GREGORIAN
BEGIN:VEVENT
DTSTART:20260813T210000Z
DTEND:20260813T220000Z
X-MICROSOFT-CDO-ALLDAYEVENT:FALSE
SUMMARY:Ribbon Cutting - First Call for Help of Ellis County: 30th Anniversary
DESCRIPTION:Please join The Chamber in Hays\, Kansas for a Ribbon Cutting to celebrate the 30th anniversary of First Call for Help of Ellis County!
X-ALT-DESC;FMTTYPE=text/html:Please join The Chamber in Hays\, Kansas for a Ribbon Cutting to celebrate the 30th anniversary of First Call for Help of Ellis County!
LOCATION:TBD
UID:e.1271.12699
SEQUENCE:3
DTSTAMP:20260424T061237Z
URL:https://members.hayschamber.com/events/details/ribbon-cutting-first-call-for-help-of-ellis-county-30th-anniversary-12699
END:VEVENT

END:VCALENDAR
