BEGIN:VCALENDAR
VERSION:2.0
PRODID:-//ChamberMaster//Event Calendar 2.0//EN
METHOD:PUBLISH
X-PUBLISHED-TTL:P3D
REFRESH-INTERVAL:P3D
CALSCALE:GREGORIAN
BEGIN:VEVENT
DTSTART:20171102T210000Z
DTEND:20171102T220000Z
X-MICROSOFT-CDO-ALLDAYEVENT:FALSE
SUMMARY:Ribbon Cutting-First Call for Help of Ellis County
DESCRIPTION:Celebrating their new location!
X-ALT-DESC;FMTTYPE=text/html:Celebrating their new location!
LOCATION:607 E. 13th
UID:e.1271.7633
SEQUENCE:3
DTSTAMP:20260424T190928Z
URL:https://members.hayschamber.com/events/details/ribbon-cutting-first-call-for-help-of-ellis-county-7633
END:VEVENT

END:VCALENDAR
