BEGIN:VCALENDAR
VERSION:2.0
PRODID:-//ChamberMaster//Event Calendar 2.0//EN
METHOD:PUBLISH
X-PUBLISHED-TTL:P3D
REFRESH-INTERVAL:P3D
CALSCALE:GREGORIAN
BEGIN:VEVENT
DTSTART:20190716T160000Z
DTEND:20190716T170000Z
X-MICROSOFT-CDO-ALLDAYEVENT:FALSE
SUMMARY:Ribbon Cutting - First Care Clinic
DESCRIPTION:
X-ALT-DESC;FMTTYPE=text/html:
LOCATION:105 W. 13th
UID:e.1271.10242
SEQUENCE:3
DTSTAMP:20260422T060210Z
URL:https://members.hayschamber.com/events/details/ribbon-cutting-first-care-clinic-10242
END:VEVENT

END:VCALENDAR
