BEGIN:VCALENDAR
VERSION:2.0
PRODID:-//ChamberMaster//Event Calendar 2.0//EN
METHOD:PUBLISH
X-PUBLISHED-TTL:P3D
REFRESH-INTERVAL:P3D
CALSCALE:GREGORIAN
BEGIN:VEVENT
DTSTART:20180517T200000Z
DTEND:20180517T210000Z
X-MICROSOFT-CDO-ALLDAYEVENT:FALSE
SUMMARY:Ribbon Cutting - First Wealth Managament
DESCRIPTION:
X-ALT-DESC;FMTTYPE=text/html:
LOCATION:107 W. 10th St.
UID:e.1271.8765
SEQUENCE:3
DTSTAMP:20260424T053647Z
URL:https://members.hayschamber.com/events/details/ribbon-cutting-first-wealth-managament-8765
END:VEVENT

END:VCALENDAR
