BEGIN:VCALENDAR
VERSION:2.0
PRODID:-//ChamberMaster//Event Calendar 2.0//EN
METHOD:PUBLISH
X-PUBLISHED-TTL:P3D
REFRESH-INTERVAL:P3D
CALSCALE:GREGORIAN
BEGIN:VEVENT
DTSTART:20170410T150000Z
DTEND:20170410T160000Z
X-MICROSOFT-CDO-ALLDAYEVENT:FALSE
SUMMARY:Ribbon Cutting/Grand Opening-Hays Rec Fitness Center
DESCRIPTION:
X-ALT-DESC;FMTTYPE=text/html:
LOCATION:Hays Rec 1105 Canterbury Dr.
UID:e.1271.6138
SEQUENCE:3
DTSTAMP:20260425T161944Z
URL:https://members.hayschamber.com/events/details/ribbon-cutting-grand-opening-hays-rec-fitness-center-6138
END:VEVENT

END:VCALENDAR
