BEGIN:VCALENDAR
VERSION:2.0
PRODID:-//ChamberMaster//Event Calendar 2.0//EN
METHOD:PUBLISH
X-PUBLISHED-TTL:P3D
REFRESH-INTERVAL:P3D
CALSCALE:GREGORIAN
BEGIN:VEVENT
DTSTART:20170317T210000Z
DTEND:20170317T220000Z
X-MICROSOFT-CDO-ALLDAYEVENT:FALSE
SUMMARY:Ribbon Cutting/Grand Opening-Pools Plus
DESCRIPTION:
X-ALT-DESC;FMTTYPE=text/html:
LOCATION:1609 Main St.
UID:e.1271.6144
SEQUENCE:3
DTSTAMP:20260425T191155Z
URL:https://members.hayschamber.com/events/details/ribbon-cutting-grand-opening-pools-plus-6144
END:VEVENT

END:VCALENDAR
