BEGIN:VCALENDAR
VERSION:2.0
PRODID:-//ChamberMaster//Event Calendar 2.0//EN
METHOD:PUBLISH
X-PUBLISHED-TTL:P3D
REFRESH-INTERVAL:P3D
CALSCALE:GREGORIAN
BEGIN:VEVENT
DTSTART:20190424T213000Z
DTEND:20190424T223000Z
X-MICROSOFT-CDO-ALLDAYEVENT:FALSE
SUMMARY:Ribbon Cutting - Gutch's Bar & Grill
DESCRIPTION:Come and help celebrate Gutch's 15th Anniversary!
X-ALT-DESC;FMTTYPE=text/html:Come and help celebrate Gutch&#39\;s 15th Anniversary!
LOCATION:111 W. 7th St.
UID:e.1271.10222
SEQUENCE:3
DTSTAMP:20260422T191312Z
URL:https://members.hayschamber.com/events/details/ribbon-cutting-gutch-s-bar-grill-10222
END:VEVENT

END:VCALENDAR
