BEGIN:VCALENDAR
VERSION:2.0
PRODID:-//ChamberMaster//Event Calendar 2.0//EN
METHOD:PUBLISH
X-PUBLISHED-TTL:P3D
REFRESH-INTERVAL:P3D
CALSCALE:GREGORIAN
BEGIN:VEVENT
DTSTART:20260924T210000Z
DTEND:20260924T220000Z
X-MICROSOFT-CDO-ALLDAYEVENT:FALSE
SUMMARY:Ribbon Cutting: Hays Young Professionals - 20th Anniversary
DESCRIPTION:Please join The Chamber in Hays\, Kansas for a Ribbon Cutting to celebrate the 20th anniversary of Hays Young Professionals! \n\n\n\nAll past and present HYP and HAYP members are invited to attend. After the Ribbon Cutting\, please stay to connect with fellow alumni over cake and appetizers!
X-ALT-DESC;FMTTYPE=text/html:Please join The Chamber in Hays\, Kansas for a Ribbon Cutting to celebrate the 20th anniversary of Hays Young Professionals!&nbsp\;<br />\n<br />\nAll past and present HYP and HAYP members are invited to attend. After the Ribbon Cutting\, please stay to connect with fellow alumni over cake and appetizers!
LOCATION:TBD
UID:e.1271.12962
SEQUENCE:3
DTSTAMP:20260424T041656Z
URL:https://members.hayschamber.com/events/details/ribbon-cutting-hays-young-professionals-20th-anniversary-12962
END:VEVENT

END:VCALENDAR
