BEGIN:VCALENDAR
VERSION:2.0
PRODID:-//ChamberMaster//Event Calendar 2.0//EN
METHOD:PUBLISH
X-PUBLISHED-TTL:P3D
REFRESH-INTERVAL:P3D
CALSCALE:GREGORIAN
BEGIN:VEVENT
DTSTART:20171205T133000Z
DTEND:20171205T134500Z
X-MICROSOFT-CDO-ALLDAYEVENT:FALSE
SUMMARY:Ribbon Cutting-HaysMed Convenient Care Clinic
DESCRIPTION:6:45 am   7:30 am   Tours/Refreshment\n\n7:30 Ribbon Cutting
X-ALT-DESC;FMTTYPE=text/html:<span style="color:#1F497D\;">6:45 am &ndash\; 7:30 am &ndash\; Tours/Refreshment</span><br />\n<span style="color:#1F497D\;">7:30 Ribbon Cutting</span><br />\n&nbsp\;
LOCATION:3216 Vine\, Suite 20
UID:e.1271.8684
SEQUENCE:3
DTSTAMP:20260424T145645Z
URL:https://members.hayschamber.com/events/details/ribbon-cutting-haysmed-convenient-care-clinic-8684
END:VEVENT

END:VCALENDAR
