BEGIN:VCALENDAR
VERSION:2.0
PRODID:-//ChamberMaster//Event Calendar 2.0//EN
METHOD:PUBLISH
X-PUBLISHED-TTL:P3D
REFRESH-INTERVAL:P3D
CALSCALE:GREGORIAN
BEGIN:VEVENT
DTSTART:20190226T220000Z
DTEND:20190226T230000Z
X-MICROSOFT-CDO-ALLDAYEVENT:FALSE
SUMMARY:Ribbon Cutting - HaysMed/Wonder Women League
DESCRIPTION:
X-ALT-DESC;FMTTYPE=text/html:
LOCATION:HaysMed Rock Garden/Atrium\, Entrance C 2220 Canterbury
UID:e.1271.9979
SEQUENCE:3
DTSTAMP:20260422T204949Z
URL:https://members.hayschamber.com/events/details/ribbon-cutting-haysmed-wonder-women-league-9979
END:VEVENT

END:VCALENDAR
