BEGIN:VCALENDAR
VERSION:2.0
PRODID:-//ChamberMaster//Event Calendar 2.0//EN
METHOD:PUBLISH
X-PUBLISHED-TTL:P3D
REFRESH-INTERVAL:P3D
CALSCALE:GREGORIAN
BEGIN:VEVENT
DTSTART:20171115T143000Z
DTEND:20171115T150000Z
X-MICROSOFT-CDO-ALLDAYEVENT:FALSE
SUMMARY:Ribbon Cutting-Indian Grounds Coffee Shop
DESCRIPTION:Ribbon Cutting
X-ALT-DESC;FMTTYPE=text/html:Ribbon Cutting
LOCATION:Hays High Library 2300 E. 13th St.
UID:e.1271.8651
SEQUENCE:3
DTSTAMP:20260424T190930Z
URL:https://members.hayschamber.com/events/details/ribbon-cutting-indian-grounds-coffee-shop-8651
END:VEVENT

END:VCALENDAR
