BEGIN:VCALENDAR
VERSION:2.0
PRODID:-//ChamberMaster//Event Calendar 2.0//EN
METHOD:PUBLISH
X-PUBLISHED-TTL:P3D
REFRESH-INTERVAL:P3D
CALSCALE:GREGORIAN
BEGIN:VEVENT
DTSTART:20180413T210000Z
DTEND:20180413T220000Z
X-MICROSOFT-CDO-ALLDAYEVENT:FALSE
SUMMARY:Ribbon Cutting - It's Personal
DESCRIPTION:
X-ALT-DESC;FMTTYPE=text/html:
LOCATION:1891 Buffalo Ave
UID:e.1271.8791
SEQUENCE:3
DTSTAMP:20260424T042924Z
URL:https://members.hayschamber.com/events/details/ribbon-cutting-it-s-personal-8791
END:VEVENT

END:VCALENDAR
