BEGIN:VCALENDAR
VERSION:2.0
PRODID:-//ChamberMaster//Event Calendar 2.0//EN
METHOD:PUBLISH
X-PUBLISHED-TTL:P3D
REFRESH-INTERVAL:P3D
CALSCALE:GREGORIAN
BEGIN:VEVENT
DTSTART:20171013T150000Z
DTEND:20171013T153000Z
X-MICROSOFT-CDO-ALLDAYEVENT:FALSE
SUMMARY:Ribbon Cutting- Kat's Hallmark Shop
DESCRIPTION:Ribbon Cutting
X-ALT-DESC;FMTTYPE=text/html:Ribbon Cutting<br />\n&nbsp\;
LOCATION:4320 Vine St. Ste. 70
UID:e.1271.7627
SEQUENCE:3
DTSTAMP:20260425T022254Z
URL:https://members.hayschamber.com/events/details/ribbon-cutting-kat-s-hallmark-shop-7627
END:VEVENT

END:VCALENDAR
