BEGIN:VCALENDAR
VERSION:2.0
PRODID:-//ChamberMaster//Event Calendar 2.0//EN
METHOD:PUBLISH
X-PUBLISHED-TTL:P3D
REFRESH-INTERVAL:P3D
CALSCALE:GREGORIAN
BEGIN:VEVENT
DTSTART:20200625T210000Z
DTEND:20200625T220000Z
X-MICROSOFT-CDO-ALLDAYEVENT:FALSE
SUMMARY:Ribbon Cutting - Kuhn's Diamond Jewelers\, Inc. - 90th Birthday Bash - Red\, White\, & Boom!
DESCRIPTION:Ribbon Cutting\n\nKuhn's Diamond Jewelers\, Inc. 90th Birthday Bash - Red\, White\, & Boom!
X-ALT-DESC;FMTTYPE=text/html:Ribbon Cutting<br />\nKuhn&#39\;s Diamond Jewelers\, Inc. 90th Birthday Bash - Red\, White\, &amp\; Boom!
LOCATION:4320 Vine St.\, Ste. 30
UID:e.1271.10654
SEQUENCE:3
DTSTAMP:20260419T160803Z
URL:https://members.hayschamber.com/events/details/ribbon-cutting-kuhn-s-diamond-jewelers-inc-90th-birthday-bash-red-white-boom-10654
END:VEVENT

END:VCALENDAR
