BEGIN:VCALENDAR
VERSION:2.0
PRODID:-//ChamberMaster//Event Calendar 2.0//EN
METHOD:PUBLISH
X-PUBLISHED-TTL:P3D
REFRESH-INTERVAL:P3D
CALSCALE:GREGORIAN
BEGIN:VEVENT
DTSTART:20190515T200000Z
DTEND:20190515T210000Z
X-MICROSOFT-CDO-ALLDAYEVENT:FALSE
SUMMARY:Ribbon Cutting - Little Libraries with Hays Public Library
DESCRIPTION:
X-ALT-DESC;FMTTYPE=text/html:
LOCATION:Frontier Park East (by the shelter and playground equipment)
UID:e.1271.10239
SEQUENCE:3
DTSTAMP:20260422T073513Z
URL:https://members.hayschamber.com/events/details/ribbon-cutting-little-libraries-with-hays-public-library-10239
END:VEVENT

END:VCALENDAR
