BEGIN:VCALENDAR
VERSION:2.0
PRODID:-//ChamberMaster//Event Calendar 2.0//EN
METHOD:PUBLISH
X-PUBLISHED-TTL:P3D
REFRESH-INTERVAL:P3D
CALSCALE:GREGORIAN
BEGIN:VEVENT
DTSTART:20180616T200000Z
DTEND:20180616T210000Z
X-MICROSOFT-CDO-ALLDAYEVENT:FALSE
SUMMARY:Ribbon Cutting - Merci Boxcar/Chartier Supplemental Insurance-Aflac
DESCRIPTION:
X-ALT-DESC;FMTTYPE=text/html:
LOCATION:Veteran's Park\, 1305 Canterbury (Behind Cloud Storage and Casey's)
UID:e.1271.9826
SEQUENCE:3
DTSTAMP:20260424T001356Z
URL:https://members.hayschamber.com/events/details/ribbon-cutting-merci-boxcar-chartier-supplemental-insurance-aflac-9826
END:VEVENT

END:VCALENDAR
