BEGIN:VCALENDAR
VERSION:2.0
PRODID:-//ChamberMaster//Event Calendar 2.0//EN
METHOD:PUBLISH
X-PUBLISHED-TTL:P3D
REFRESH-INTERVAL:P3D
CALSCALE:GREGORIAN
BEGIN:VEVENT
DTSTART:20190501T150000Z
DTEND:20190501T160000Z
X-MICROSOFT-CDO-ALLDAYEVENT:FALSE
SUMMARY:Ribbon Cutting - NCK Tech Carpentry House
DESCRIPTION:
X-ALT-DESC;FMTTYPE=text/html:
LOCATION:2205 Wheatland Dr\, NCK Tech campus
UID:e.1271.10226
SEQUENCE:3
DTSTAMP:20260422T073358Z
URL:https://members.hayschamber.com/events/details/ribbon-cutting-nck-tech-carpentry-house-10226
END:VEVENT

END:VCALENDAR
