BEGIN:VCALENDAR
VERSION:2.0
PRODID:-//ChamberMaster//Event Calendar 2.0//EN
METHOD:PUBLISH
X-PUBLISHED-TTL:P3D
REFRESH-INTERVAL:P3D
CALSCALE:GREGORIAN
BEGIN:VEVENT
DTSTART:20180503T150000Z
DTEND:20180503T160000Z
X-MICROSOFT-CDO-ALLDAYEVENT:FALSE
SUMMARY:Ribbon Cutting - NCK Tech Carpentry House
DESCRIPTION:
X-ALT-DESC;FMTTYPE=text/html:
LOCATION:Northeast end of NCK Tech campus\, 2205 Wheatland Dr. Carpentry House
UID:e.1271.8775
SEQUENCE:3
DTSTAMP:20260424T055101Z
URL:https://members.hayschamber.com/events/details/ribbon-cutting-nck-tech-carpentry-house-8775
END:VEVENT

END:VCALENDAR
