BEGIN:VCALENDAR
VERSION:2.0
PRODID:-//ChamberMaster//Event Calendar 2.0//EN
METHOD:PUBLISH
X-PUBLISHED-TTL:P3D
REFRESH-INTERVAL:P3D
CALSCALE:GREGORIAN
BEGIN:VEVENT
DTSTART:20200430T150000Z
DTEND:20200430T160000Z
X-MICROSOFT-CDO-ALLDAYEVENT:FALSE
SUMMARY:Ribbon Cutting - NCK Tech (Hays Carpentry House)
DESCRIPTION:Ribbon Cutting
X-ALT-DESC;FMTTYPE=text/html:Ribbon Cutting
LOCATION:NCK Tech (Building TBD)
UID:e.1271.10596
SEQUENCE:3
DTSTAMP:20260419T224440Z
URL:https://members.hayschamber.com/events/details/ribbon-cutting-nck-tech-hays-carpentry-house-10596
END:VEVENT

END:VCALENDAR
