BEGIN:VCALENDAR
VERSION:2.0
PRODID:-//ChamberMaster//Event Calendar 2.0//EN
METHOD:PUBLISH
X-PUBLISHED-TTL:P3D
REFRESH-INTERVAL:P3D
CALSCALE:GREGORIAN
BEGIN:VEVENT
DTSTART:20170825T150000Z
DTEND:20170825T160000Z
X-MICROSOFT-CDO-ALLDAYEVENT:FALSE
SUMMARY:Ribbon Cutting-New Robbins Banking Institute
DESCRIPTION:
X-ALT-DESC;FMTTYPE=text/html:
LOCATION:McCartney Hall - Room 204 FHSU Campus 600 Park St.
UID:e.1271.6209
SEQUENCE:3
DTSTAMP:20260425T035300Z
URL:https://members.hayschamber.com/events/details/ribbon-cutting-new-robbins-banking-institute-6209
END:VEVENT

END:VCALENDAR
