BEGIN:VCALENDAR
VERSION:2.0
PRODID:-//ChamberMaster//Event Calendar 2.0//EN
METHOD:PUBLISH
X-PUBLISHED-TTL:P3D
REFRESH-INTERVAL:P3D
CALSCALE:GREGORIAN
BEGIN:VEVENT
DTSTART:20170826T190000Z
DTEND:20170826T200000Z
X-MICROSOFT-CDO-ALLDAYEVENT:FALSE
SUMMARY:Ribbon Cutting-New Track & Field Facility
DESCRIPTION:This will be the dedication of the new track and field and the naming of the Alex Francis track.
X-ALT-DESC;FMTTYPE=text/html:This will be the dedication of the new track and field and the naming of the Alex Francis track.
LOCATION:new FHSU track
UID:e.1271.6175
SEQUENCE:3
DTSTAMP:20260425T035216Z
URL:https://members.hayschamber.com/events/details/ribbon-cutting-new-track-field-facility-6175
END:VEVENT

END:VCALENDAR
