BEGIN:VCALENDAR
VERSION:2.0
PRODID:-//ChamberMaster//Event Calendar 2.0//EN
METHOD:PUBLISH
X-PUBLISHED-TTL:P3D
REFRESH-INTERVAL:P3D
CALSCALE:GREGORIAN
BEGIN:VEVENT
DTSTART:20180513T000000Z
DTEND:20180513T010000Z
X-MICROSOFT-CDO-ALLDAYEVENT:FALSE
SUMMARY:Ribbon Cutting - Old Chicago
DESCRIPTION:
X-ALT-DESC;FMTTYPE=text/html:
LOCATION:
UID:e.1271.9810
SEQUENCE:3
DTSTAMP:20260424T043021Z
URL:https://members.hayschamber.com/events/details/ribbon-cutting-old-chicago-9810
END:VEVENT

END:VCALENDAR
