BEGIN:VCALENDAR
VERSION:2.0
PRODID:-//ChamberMaster//Event Calendar 2.0//EN
METHOD:PUBLISH
X-PUBLISHED-TTL:P3D
REFRESH-INTERVAL:P3D
CALSCALE:GREGORIAN
BEGIN:VEVENT
DTSTART:20170929T210000Z
DTEND:20170929T230000Z
X-MICROSOFT-CDO-ALLDAYEVENT:FALSE
SUMMARY:Ribbon Cutting/Open House-DSNWK
DESCRIPTION:Ribbon Cutting/Come & Go Open House\n\nDSNWK is celebrating their 50th anniversary.
X-ALT-DESC;FMTTYPE=text/html:Ribbon Cutting/Come &amp\; Go Open House<br />\nDSNWK is celebrating their 50th anniversary.
LOCATION:Reed Development Center 317 W. 13th
UID:e.1271.7612
SEQUENCE:3
DTSTAMP:20260425T035208Z
URL:https://members.hayschamber.com/events/details/ribbon-cutting-open-house-dsnwk-7612
END:VEVENT

END:VCALENDAR
