BEGIN:VCALENDAR
VERSION:2.0
PRODID:-//ChamberMaster//Event Calendar 2.0//EN
METHOD:PUBLISH
X-PUBLISHED-TTL:P3D
REFRESH-INTERVAL:P3D
CALSCALE:GREGORIAN
BEGIN:VEVENT
DTSTART:20181113T173000Z
DTEND:20181113T183000Z
X-MICROSOFT-CDO-ALLDAYEVENT:FALSE
SUMMARY:Ribbon Cutting - Operation Christmas Child/KPRD
DESCRIPTION:
X-ALT-DESC;FMTTYPE=text/html:
LOCATION:Messiah Lutheran Church\, 2000 Main St
UID:e.1271.9907
SEQUENCE:3
DTSTAMP:20260423T075545Z
URL:https://members.hayschamber.com/events/details/ribbon-cutting-operation-christmas-child-kprd-9907
END:VEVENT

END:VCALENDAR
