BEGIN:VCALENDAR
VERSION:2.0
PRODID:-//ChamberMaster//Event Calendar 2.0//EN
METHOD:PUBLISH
X-PUBLISHED-TTL:P3D
REFRESH-INTERVAL:P3D
CALSCALE:GREGORIAN
BEGIN:VEVENT
DTSTART:20171117T163000Z
DTEND:20171117T173000Z
X-MICROSOFT-CDO-ALLDAYEVENT:FALSE
SUMMARY:Ribbon Cutting-Orscheln's
DESCRIPTION:
X-ALT-DESC;FMTTYPE=text/html:
LOCATION:2900 Broadway Ave
UID:e.1271.7636
SEQUENCE:3
DTSTAMP:20260424T190932Z
URL:https://members.hayschamber.com/events/details/ribbon-cutting-orscheln-s-7636
END:VEVENT

END:VCALENDAR
