BEGIN:VCALENDAR
VERSION:2.0
PRODID:-//ChamberMaster//Event Calendar 2.0//EN
METHOD:PUBLISH
X-PUBLISHED-TTL:P3D
REFRESH-INTERVAL:P3D
CALSCALE:GREGORIAN
BEGIN:VEVENT
DTSTART:20190201T220000Z
DTEND:20190201T230000Z
X-MICROSOFT-CDO-ALLDAYEVENT:FALSE
SUMMARY:Ribbon Cutting - Pat's Beef Jerky
DESCRIPTION:
X-ALT-DESC;FMTTYPE=text/html:
LOCATION:2514 Vine\, Ste 3
UID:e.1271.9985
SEQUENCE:3
DTSTAMP:20260422T204951Z
URL:https://members.hayschamber.com/events/details/ribbon-cutting-pat-s-beef-jerky-9985
END:VEVENT

END:VCALENDAR
