BEGIN:VCALENDAR
VERSION:2.0
PRODID:-//ChamberMaster//Event Calendar 2.0//EN
METHOD:PUBLISH
X-PUBLISHED-TTL:P3D
REFRESH-INTERVAL:P3D
CALSCALE:GREGORIAN
BEGIN:VEVENT
DTSTART:20190925T210000Z
DTEND:20190925T220000Z
X-MICROSOFT-CDO-ALLDAYEVENT:FALSE
SUMMARY:Ribbon Cutting - Precision Valley Golf & Bike Center
DESCRIPTION:Ribbon Cutting - Precision Valley Golf & Bike Center
X-ALT-DESC;FMTTYPE=text/html:Ribbon Cutting - Precision Valley Golf &amp\; Bike Center
LOCATION:1500 W. 27th
UID:e.1271.10306
SEQUENCE:3
DTSTAMP:20260422T020941Z
URL:https://members.hayschamber.com/events/details/ribbon-cutting-precision-valley-golf-bike-center-10306
END:VEVENT

END:VCALENDAR
