BEGIN:VCALENDAR
VERSION:2.0
PRODID:-//ChamberMaster//Event Calendar 2.0//EN
METHOD:PUBLISH
X-PUBLISHED-TTL:P3D
REFRESH-INTERVAL:P3D
CALSCALE:GREGORIAN
BEGIN:VEVENT
DTSTART:20191107T220000Z
DTEND:20191107T230000Z
X-MICROSOFT-CDO-ALLDAYEVENT:FALSE
SUMMARY:Ribbon Cutting - Prospectively Healthy
DESCRIPTION:Ribbon Cutting - Prospectively Healthy
X-ALT-DESC;FMTTYPE=text/html:Ribbon Cutting - Prospectively Healthy
LOCATION:Welcome Center Conference Room (2700 Vine)
UID:e.1271.10335
SEQUENCE:3
DTSTAMP:20260421T232206Z
URL:https://members.hayschamber.com/events/details/ribbon-cutting-prospectively-healthy-10335
END:VEVENT

END:VCALENDAR
