BEGIN:VCALENDAR
VERSION:2.0
PRODID:-//ChamberMaster//Event Calendar 2.0//EN
METHOD:PUBLISH
X-PUBLISHED-TTL:P3D
REFRESH-INTERVAL:P3D
CALSCALE:GREGORIAN
BEGIN:VEVENT
DTSTART:20190918T203000Z
DTEND:20190918T220000Z
X-MICROSOFT-CDO-ALLDAYEVENT:FALSE
SUMMARY:Ribbon Cutting - S&W Supply
DESCRIPTION:Join the Chamber in celebrating 85 years of memories with S&W Supply!
X-ALT-DESC;FMTTYPE=text/html:Join the Chamber in celebrating 85 years of memories with S&amp\;W Supply!
LOCATION:300 E. 8th St.
UID:e.1271.10300
SEQUENCE:3
DTSTAMP:20260422T020708Z
URL:https://members.hayschamber.com/events/details/ribbon-cutting-s-w-supply-10300
END:VEVENT

END:VCALENDAR
