BEGIN:VCALENDAR
VERSION:2.0
PRODID:-//ChamberMaster//Event Calendar 2.0//EN
METHOD:PUBLISH
X-PUBLISHED-TTL:P3D
REFRESH-INTERVAL:P3D
CALSCALE:GREGORIAN
BEGIN:VEVENT
DTSTART:20181025T200000Z
DTEND:20181025T210000Z
X-MICROSOFT-CDO-ALLDAYEVENT:FALSE
SUMMARY:Ribbon Cutting - Schwartz & Park
DESCRIPTION:
X-ALT-DESC;FMTTYPE=text/html:
LOCATION:1401 Main St. Ste. A
UID:e.1271.9879
SEQUENCE:3
DTSTAMP:20260423T155443Z
URL:https://members.hayschamber.com/events/details/ribbon-cutting-schwartz-park-9879
END:VEVENT

END:VCALENDAR
