BEGIN:VCALENDAR
VERSION:2.0
PRODID:-//ChamberMaster//Event Calendar 2.0//EN
METHOD:PUBLISH
X-PUBLISHED-TTL:P3D
REFRESH-INTERVAL:P3D
CALSCALE:GREGORIAN
BEGIN:VEVENT
DTSTART:20191213T220000Z
DTEND:20191213T230000Z
X-MICROSOFT-CDO-ALLDAYEVENT:FALSE
SUMMARY:Ribbon Cutting - Southwind CrossFit
DESCRIPTION:Ribbon Cutting
X-ALT-DESC;FMTTYPE=text/html:Ribbon Cutting
LOCATION:229 W 10th St.
UID:e.1271.10345
SEQUENCE:3
DTSTAMP:20260421T220606Z
URL:https://members.hayschamber.com/events/details/ribbon-cutting-southwind-crossfit-10345
END:VEVENT

END:VCALENDAR
