BEGIN:VCALENDAR
VERSION:2.0
PRODID:-//ChamberMaster//Event Calendar 2.0//EN
METHOD:PUBLISH
X-PUBLISHED-TTL:P3D
REFRESH-INTERVAL:P3D
CALSCALE:GREGORIAN
BEGIN:VEVENT
DTSTART:20180720T210000Z
DTEND:20180720T220000Z
X-MICROSOFT-CDO-ALLDAYEVENT:FALSE
SUMMARY:Ribbon Cutting - The Golden Q
DESCRIPTION:Come and help us celebrate 20 years with The Golden Q!
X-ALT-DESC;FMTTYPE=text/html:Come and help us celebrate 20 years with The Golden Q!
LOCATION:809 Ash
UID:e.1271.9851
SEQUENCE:3
DTSTAMP:20260424T045039Z
URL:https://members.hayschamber.com/events/details/ribbon-cutting-the-golden-q-9851
END:VEVENT

END:VCALENDAR
