BEGIN:VCALENDAR
VERSION:2.0
PRODID:-//ChamberMaster//Event Calendar 2.0//EN
METHOD:PUBLISH
X-PUBLISHED-TTL:P3D
REFRESH-INTERVAL:P3D
CALSCALE:GREGORIAN
BEGIN:VEVENT
DTSTART:20171004T210000Z
DTEND:20171004T220000Z
X-MICROSOFT-CDO-ALLDAYEVENT:FALSE
SUMMARY:Ribbon Cutting-The Paisley Pear
DESCRIPTION:
X-ALT-DESC;FMTTYPE=text/html:
LOCATION:1100 Main
UID:e.1271.8636
SEQUENCE:3
DTSTAMP:20260425T022254Z
URL:https://members.hayschamber.com/events/details/ribbon-cutting-the-paisley-pear-8636
END:VEVENT

END:VCALENDAR
