BEGIN:VCALENDAR
VERSION:2.0
PRODID:-//ChamberMaster//Event Calendar 2.0//EN
METHOD:PUBLISH
X-PUBLISHED-TTL:P3D
REFRESH-INTERVAL:P3D
CALSCALE:GREGORIAN
BEGIN:VEVENT
DTSTART:20180821T153000Z
DTEND:20180821T163000Z
X-MICROSOFT-CDO-ALLDAYEVENT:FALSE
SUMMARY:Ribbon Cutting - TownePlace Suites
DESCRIPTION:
X-ALT-DESC;FMTTYPE=text/html:
LOCATION:4001 General Hays Road
UID:e.1271.9858
SEQUENCE:3
DTSTAMP:20260423T171854Z
URL:https://members.hayschamber.com/events/details/ribbon-cutting-towneplace-suites-9858
END:VEVENT

END:VCALENDAR
