BEGIN:VCALENDAR
VERSION:2.0
PRODID:-//ChamberMaster//Event Calendar 2.0//EN
METHOD:PUBLISH
X-PUBLISHED-TTL:P3D
REFRESH-INTERVAL:P3D
CALSCALE:GREGORIAN
BEGIN:VEVENT
DTSTART:20190304T210000Z
DTEND:20190304T220000Z
X-MICROSOFT-CDO-ALLDAYEVENT:FALSE
SUMMARY:Ribbon Cutting - Tractor Supply
DESCRIPTION:Come and celebrate the opening of Tractor Supply! Hear what they can do for you (and sign up for some great Grand Opening prizes).
X-ALT-DESC;FMTTYPE=text/html:Come and celebrate the opening of Tractor Supply! Hear what they can do for you (and sign up for some great Grand Opening prizes).
LOCATION:235 W. 48th St.
UID:e.1271.9978
SEQUENCE:3
DTSTAMP:20260422T182643Z
URL:https://members.hayschamber.com/events/details/ribbon-cutting-tractor-supply-9978
END:VEVENT

END:VCALENDAR
