BEGIN:VCALENDAR
VERSION:2.0
PRODID:-//ChamberMaster//Event Calendar 2.0//EN
METHOD:PUBLISH
X-PUBLISHED-TTL:P3D
REFRESH-INTERVAL:P3D
CALSCALE:GREGORIAN
BEGIN:VEVENT
DTSTART:20170223T160000Z
DTEND:20170223T170000Z
X-MICROSOFT-CDO-ALLDAYEVENT:FALSE
SUMMARY:RIbbon Cutting-United Way of Ellis County
DESCRIPTION:
X-ALT-DESC;FMTTYPE=text/html:
LOCATION:205 E. 7th St. (First floor)
UID:e.1271.5994
SEQUENCE:3
DTSTAMP:20260425T230238Z
URL:https://members.hayschamber.com/events/details/ribbon-cutting-united-way-of-ellis-county-5994
END:VEVENT

END:VCALENDAR
